BEGIN:VCALENDAR
VERSION:2.0
PRODID:-//Förderverein der Freiwilligen Feuerwehr Buxtehude Zug II e.V. - ECPv6.15.20//NONSGML v1.0//EN
CALSCALE:GREGORIAN
METHOD:PUBLISH
X-ORIGINAL-URL:https://foerdervereinzug2.de
X-WR-CALDESC:Veranstaltungen für Förderverein der Freiwilligen Feuerwehr Buxtehude Zug II e.V.
REFRESH-INTERVAL;VALUE=DURATION:PT1H
X-Robots-Tag:noindex
X-PUBLISHED-TTL:PT1H
BEGIN:VTIMEZONE
TZID:Europe/Berlin
BEGIN:DAYLIGHT
TZOFFSETFROM:+0100
TZOFFSETTO:+0200
TZNAME:CEST
DTSTART:20230326T010000
END:DAYLIGHT
BEGIN:STANDARD
TZOFFSETFROM:+0200
TZOFFSETTO:+0100
TZNAME:CET
DTSTART:20231029T010000
END:STANDARD
BEGIN:DAYLIGHT
TZOFFSETFROM:+0100
TZOFFSETTO:+0200
TZNAME:CEST
DTSTART:20240331T010000
END:DAYLIGHT
BEGIN:STANDARD
TZOFFSETFROM:+0200
TZOFFSETTO:+0100
TZNAME:CET
DTSTART:20241027T010000
END:STANDARD
BEGIN:DAYLIGHT
TZOFFSETFROM:+0100
TZOFFSETTO:+0200
TZNAME:CEST
DTSTART:20250330T010000
END:DAYLIGHT
BEGIN:STANDARD
TZOFFSETFROM:+0200
TZOFFSETTO:+0100
TZNAME:CET
DTSTART:20251026T010000
END:STANDARD
END:VTIMEZONE
BEGIN:VEVENT
DTSTART;VALUE=DATE:20240825
DTEND;VALUE=DATE:20240826
DTSTAMP:20260422T191552
CREATED:20240423T064921Z
LAST-MODIFIED:20240423T064921Z
UID:181-1724544000-1724630399@foerdervereinzug2.de
SUMMARY:Tag der offenen Türe Zug II (130 Jahre Zug II)
DESCRIPTION:
URL:https://foerdervereinzug2.de/event/tag-der-offenen-tuere-zug-ii-130-jahre-zug-ii/
LOCATION:Feuerwehr Buxtehude Gerätehaus Zug II\, Am Eichholz 8\, Buxtehude\, Niedersachsen\, 21614
END:VEVENT
END:VCALENDAR