BEGIN:VCALENDAR
VERSION:2.0
PRODID:-//Förderverein der Freiwilligen Feuerwehr Buxtehude Zug II e.V. - ECPv6.15.20//NONSGML v1.0//EN
CALSCALE:GREGORIAN
METHOD:PUBLISH
X-ORIGINAL-URL:https://foerdervereinzug2.de
X-WR-CALDESC:Veranstaltungen für Förderverein der Freiwilligen Feuerwehr Buxtehude Zug II e.V.
REFRESH-INTERVAL;VALUE=DURATION:PT1H
X-Robots-Tag:noindex
X-PUBLISHED-TTL:PT1H
BEGIN:VTIMEZONE
TZID:Europe/Berlin
BEGIN:DAYLIGHT
TZOFFSETFROM:+0100
TZOFFSETTO:+0200
TZNAME:CEST
DTSTART:20220327T010000
END:DAYLIGHT
BEGIN:STANDARD
TZOFFSETFROM:+0200
TZOFFSETTO:+0100
TZNAME:CET
DTSTART:20221030T010000
END:STANDARD
BEGIN:DAYLIGHT
TZOFFSETFROM:+0100
TZOFFSETTO:+0200
TZNAME:CEST
DTSTART:20230326T010000
END:DAYLIGHT
BEGIN:STANDARD
TZOFFSETFROM:+0200
TZOFFSETTO:+0100
TZNAME:CET
DTSTART:20231029T010000
END:STANDARD
BEGIN:DAYLIGHT
TZOFFSETFROM:+0100
TZOFFSETTO:+0200
TZNAME:CEST
DTSTART:20240331T010000
END:DAYLIGHT
BEGIN:STANDARD
TZOFFSETFROM:+0200
TZOFFSETTO:+0100
TZNAME:CET
DTSTART:20241027T010000
END:STANDARD
BEGIN:DAYLIGHT
TZOFFSETFROM:+0100
TZOFFSETTO:+0200
TZNAME:CEST
DTSTART:20250330T010000
END:DAYLIGHT
BEGIN:STANDARD
TZOFFSETFROM:+0200
TZOFFSETTO:+0100
TZNAME:CET
DTSTART:20251026T010000
END:STANDARD
BEGIN:DAYLIGHT
TZOFFSETFROM:+0100
TZOFFSETTO:+0200
TZNAME:CEST
DTSTART:20260329T010000
END:DAYLIGHT
BEGIN:STANDARD
TZOFFSETFROM:+0200
TZOFFSETTO:+0100
TZNAME:CET
DTSTART:20261025T010000
END:STANDARD
END:VTIMEZONE
BEGIN:VTIMEZONE
TZID:UTC
BEGIN:STANDARD
TZOFFSETFROM:+0000
TZOFFSETTO:+0000
TZNAME:UTC
DTSTART:20210101T000000
END:STANDARD
END:VTIMEZONE
BEGIN:VTIMEZONE
TZID:Europe/Paris
BEGIN:DAYLIGHT
TZOFFSETFROM:+0100
TZOFFSETTO:+0200
TZNAME:CEST
DTSTART:20210328T010000
END:DAYLIGHT
BEGIN:STANDARD
TZOFFSETFROM:+0200
TZOFFSETTO:+0100
TZNAME:CET
DTSTART:20211031T010000
END:STANDARD
BEGIN:DAYLIGHT
TZOFFSETFROM:+0100
TZOFFSETTO:+0200
TZNAME:CEST
DTSTART:20220327T010000
END:DAYLIGHT
BEGIN:STANDARD
TZOFFSETFROM:+0200
TZOFFSETTO:+0100
TZNAME:CET
DTSTART:20221030T010000
END:STANDARD
BEGIN:DAYLIGHT
TZOFFSETFROM:+0100
TZOFFSETTO:+0200
TZNAME:CEST
DTSTART:20230326T010000
END:DAYLIGHT
BEGIN:STANDARD
TZOFFSETFROM:+0200
TZOFFSETTO:+0100
TZNAME:CET
DTSTART:20231029T010000
END:STANDARD
END:VTIMEZONE
BEGIN:VEVENT
DTSTART;TZID=Europe/Berlin:20251107T180000
DTEND;TZID=Europe/Berlin:20251107T210000
DTSTAMP:20260421T121631
CREATED:20250319T142405Z
LAST-MODIFIED:20250319T142509Z
UID:260-1762538400-1762549200@foerdervereinzug2.de
SUMMARY:Laternenumzug Altkloster 2025
DESCRIPTION:Laternenumzug Altkloster 2025. \nAbmarsch um 18 Uhr auf dem Schafmarktplatz in Altkloster – im Anschluss ist für das leibliche Wohl gesorgt.
URL:https://foerdervereinzug2.de/event/laternenumzug-altkloster-2025/
LOCATION:Schaftmarktplatz\, Am Eichholz\, Buxtehude\, 21614\, Deutschland
END:VEVENT
BEGIN:VEVENT
DTSTART;TZID=Europe/Berlin:20250425T190000
DTEND;TZID=Europe/Berlin:20250425T200000
DTSTAMP:20260421T121631
CREATED:20250319T131116Z
LAST-MODIFIED:20250319T131116Z
UID:258-1745607600-1745611200@foerdervereinzug2.de
SUMMARY:Mitgliederversammlung 2025
DESCRIPTION:
URL:https://foerdervereinzug2.de/event/mitgliederversammlung-2025/
LOCATION:Feuerwehr Buxtehude Gerätehaus Zug II\, Am Eichholz 8\, Buxtehude\, Niedersachsen\, 21614
END:VEVENT
BEGIN:VEVENT
DTSTART;TZID=Europe/Berlin:20241108T180000
DTEND;TZID=Europe/Berlin:20241108T210000
DTSTAMP:20260421T121631
CREATED:20240423T064729Z
LAST-MODIFIED:20241021T150933Z
UID:179-1731088800-1731099600@foerdervereinzug2.de
SUMMARY:Laternenumzug Altkloster 2024
DESCRIPTION:Laternenumzug Altkloster 2024. \nAbmarsch um 18 Uhr auf dem Schafmarktplatz in Altkloster – im Anschluss ist für das leibliche Wohl gesorgt.
URL:https://foerdervereinzug2.de/event/laternenumzug-2024/
LOCATION:Schaftmarktplatz\, Am Eichholz\, Buxtehude\, 21614\, Deutschland
END:VEVENT
BEGIN:VEVENT
DTSTART;VALUE=DATE:20240825
DTEND;VALUE=DATE:20240826
DTSTAMP:20260421T121631
CREATED:20240423T064921Z
LAST-MODIFIED:20240423T064921Z
UID:181-1724544000-1724630399@foerdervereinzug2.de
SUMMARY:Tag der offenen Türe Zug II (130 Jahre Zug II)
DESCRIPTION:
URL:https://foerdervereinzug2.de/event/tag-der-offenen-tuere-zug-ii-130-jahre-zug-ii/
LOCATION:Feuerwehr Buxtehude Gerätehaus Zug II\, Am Eichholz 8\, Buxtehude\, Niedersachsen\, 21614
END:VEVENT
BEGIN:VEVENT
DTSTART;TZID=Europe/Berlin:20240601T130000
DTEND;TZID=Europe/Berlin:20240601T190000
DTSTAMP:20260421T121631
CREATED:20240423T064602Z
LAST-MODIFIED:20240522T074341Z
UID:173-1717246800-1717268400@foerdervereinzug2.de
SUMMARY:Stadtvergleichsübung
DESCRIPTION:
URL:https://foerdervereinzug2.de/event/stadtvergleichsuebung/
LOCATION:Schützenverein Altkloster\, Apensener Str. 17\, Buxtehude\, 21614
END:VEVENT
BEGIN:VEVENT
DTSTART;TZID=Europe/Berlin:20240426T190000
DTEND;TZID=Europe/Berlin:20240426T203000
DTSTAMP:20260421T121631
CREATED:20240423T064614Z
LAST-MODIFIED:20240423T064614Z
UID:171-1714158000-1714163400@foerdervereinzug2.de
SUMMARY:Mitgliederversammlung 2024
DESCRIPTION:
URL:https://foerdervereinzug2.de/event/mitgliederversammlung-2024/
LOCATION:Feuerwehr Buxtehude Gerätehaus Zug II\, Am Eichholz 8\, Buxtehude\, Niedersachsen\, 21614
END:VEVENT
BEGIN:VEVENT
DTSTART;TZID=Europe/Berlin:20231203T110000
DTEND;TZID=Europe/Berlin:20231203T180000
DTSTAMP:20260421T121631
CREATED:20230301T085645Z
LAST-MODIFIED:20230301T085645Z
UID:125-1701601200-1701626400@foerdervereinzug2.de
SUMMARY:Vorweihnachtlicher Nachmittag
DESCRIPTION:
URL:https://foerdervereinzug2.de/event/vorweihnachtlicher-nachmittag-2/
LOCATION:Schaftmarktplatz\, Am Eichholz\, Buxtehude\, 21614\, Deutschland
END:VEVENT
BEGIN:VEVENT
DTSTART;TZID=Europe/Berlin:20231110T180000
DTEND;TZID=Europe/Berlin:20231110T210000
DTSTAMP:20260421T121631
CREATED:20230301T084936Z
LAST-MODIFIED:20231012T083421Z
UID:118-1699639200-1699650000@foerdervereinzug2.de
SUMMARY:Laternenumzug
DESCRIPTION:Am 10.11.2023 findet der diesjährige Laternenumzug des Fördervereins der Freiwilligen Feuerwehr Buxtehude Zug II statt. \nStart ist im 18 Uhr auf dem Schafsmarktplatz (Am Eichholz) in Buxtehude. Im Anschluss ist im Feuerwehrgerätehaus Zug II (Am Eichholz) für das leibliche Wohl gesorgt. \nBegleitet wird der Umzug durch die StreetBand der Buxtehuder Musikzüge. \nWir freuen uns über rege Teilnahme.
URL:https://foerdervereinzug2.de/event/laternenumzug-2/
LOCATION:Schaftmarktplatz\, Am Eichholz\, Buxtehude\, 21614\, Deutschland
END:VEVENT
BEGIN:VEVENT
DTSTART;TZID=Europe/Berlin:20230501T130000
DTEND;TZID=Europe/Berlin:20230501T183000
DTSTAMP:20260421T121631
CREATED:20230301T085411Z
LAST-MODIFIED:20230430T130353Z
UID:122-1682946000-1682965800@foerdervereinzug2.de
SUMMARY:Maibaumfest Bürgerverein Altkloster
DESCRIPTION:Mehr zu erfahren bei unserem Bürgerverein: \nhttp://www.buergerverein-altkloster.de/veranstaltungen/2402525/2023/05/01/1.-mai-maibaumfest-mit-buntem-rahmenprogramm-auf-dem-schafmarktplatz.html
URL:https://foerdervereinzug2.de/event/maifest-buergerverein-altkloster/
LOCATION:Schaftmarktplatz\, Am Eichholz\, Buxtehude\, 21614\, Deutschland
END:VEVENT
BEGIN:VEVENT
DTSTART;TZID=Europe/Berlin:20230414T200000
DTEND;TZID=Europe/Berlin:20230414T213000
DTSTAMP:20260421T121631
CREATED:20230302T125905Z
LAST-MODIFIED:20230302T125905Z
UID:128-1681502400-1681507800@foerdervereinzug2.de
SUMMARY:Mitgliederversammlung 2023
DESCRIPTION:
URL:https://foerdervereinzug2.de/event/mitgliederversammlung-2023/
LOCATION:Feuerwehr Buxtehude Gerätehaus Zug II\, Am Eichholz 8\, Buxtehude\, Niedersachsen\, 21614
END:VEVENT
BEGIN:VEVENT
DTSTART;TZID=UTC:20221127T110000
DTEND;TZID=UTC:20221127T180000
DTSTAMP:20260421T121631
CREATED:20221104T111319Z
LAST-MODIFIED:20221104T111319Z
UID:37-1669546800-1669572000@foerdervereinzug2.de
SUMMARY:Vorweihnachtlicher Nachmittag
DESCRIPTION:Der Bürgerverein Altkloster veranstaltet wieder den Vorweihnachtlichen Nachmittag. \nWir werden durch den Zug II entsprechend vertreten sein und den Bürgerverein unterstützen. \n  \nÜber zahlreiche Besucher und Interessenten freuen wir uns sehr. Näheres ist zu finden auf der Seite des Bürgervereins Altkloster unter: \nhttp://www.buergerverein-altkloster.de/veranstaltungen/2350618/2022/11/27/herzliche-einladung-zum-vorweihnachtlichen-adventssonntag-am-27.11.2022-auf-dem-schafmarktplatz-altkloster.html \n 
URL:https://foerdervereinzug2.de/event/vorweihnachtlicher-nachmittag/
LOCATION:Schaftmarktplatz\, Am Eichholz\, Buxtehude\, 21614\, Deutschland
ORGANIZER;CN="B%C3%BCrgerverein Altkloster":MAILTO:nina.freudenthal@yahoo.de
END:VEVENT
BEGIN:VEVENT
DTSTART;TZID=Europe/Paris:20221112T173000
DTEND;TZID=Europe/Paris:20221112T200000
DTSTAMP:20260421T121631
CREATED:20221104T110248Z
LAST-MODIFIED:20221104T110248Z
UID:32-1668274200-1668283200@foerdervereinzug2.de
SUMMARY:Laternenumzug
DESCRIPTION:Wir wollen Altkloster im Licht der Laternen erstrahlen lassen. \nBesuchen Sie uns und die Freiwillige Feuerwehr Buxtehude Ortswehr Buxtehude Zug II. \nWir freuen uns über rege Teilnahme. \nStart: 17:30 Uhr auf dem Schafmarktplatz (Am Eichholz) in Buxtehude \nFür das leibliche Wohl ist im Anschluss gesorgt.
URL:https://foerdervereinzug2.de/event/laternenumzug/
LOCATION:Schaftmarktplatz\, Am Eichholz\, Buxtehude\, 21614\, Deutschland
END:VEVENT
END:VCALENDAR