BEGIN:VCALENDAR
VERSION:2.0
PRODID:-//Förderverein der Freiwilligen Feuerwehr Buxtehude Zug II e.V. - ECPv6.15.20//NONSGML v1.0//EN
CALSCALE:GREGORIAN
METHOD:PUBLISH
X-ORIGINAL-URL:https://foerdervereinzug2.de
X-WR-CALDESC:Veranstaltungen für Förderverein der Freiwilligen Feuerwehr Buxtehude Zug II e.V.
REFRESH-INTERVAL;VALUE=DURATION:PT1H
X-Robots-Tag:noindex
X-PUBLISHED-TTL:PT1H
BEGIN:VTIMEZONE
TZID:Europe/Paris
BEGIN:DAYLIGHT
TZOFFSETFROM:+0100
TZOFFSETTO:+0200
TZNAME:CEST
DTSTART:20210328T010000
END:DAYLIGHT
BEGIN:STANDARD
TZOFFSETFROM:+0200
TZOFFSETTO:+0100
TZNAME:CET
DTSTART:20211031T010000
END:STANDARD
BEGIN:DAYLIGHT
TZOFFSETFROM:+0100
TZOFFSETTO:+0200
TZNAME:CEST
DTSTART:20220327T010000
END:DAYLIGHT
BEGIN:STANDARD
TZOFFSETFROM:+0200
TZOFFSETTO:+0100
TZNAME:CET
DTSTART:20221030T010000
END:STANDARD
BEGIN:DAYLIGHT
TZOFFSETFROM:+0100
TZOFFSETTO:+0200
TZNAME:CEST
DTSTART:20230326T010000
END:DAYLIGHT
BEGIN:STANDARD
TZOFFSETFROM:+0200
TZOFFSETTO:+0100
TZNAME:CET
DTSTART:20231029T010000
END:STANDARD
END:VTIMEZONE
BEGIN:VTIMEZONE
TZID:UTC
BEGIN:STANDARD
TZOFFSETFROM:+0000
TZOFFSETTO:+0000
TZNAME:UTC
DTSTART:20210101T000000
END:STANDARD
END:VTIMEZONE
BEGIN:VEVENT
DTSTART;TZID=Europe/Paris:20221112T173000
DTEND;TZID=Europe/Paris:20221112T200000
DTSTAMP:20260424T032421
CREATED:20221104T110248Z
LAST-MODIFIED:20221104T110248Z
UID:32-1668274200-1668283200@foerdervereinzug2.de
SUMMARY:Laternenumzug
DESCRIPTION:Wir wollen Altkloster im Licht der Laternen erstrahlen lassen. \nBesuchen Sie uns und die Freiwillige Feuerwehr Buxtehude Ortswehr Buxtehude Zug II. \nWir freuen uns über rege Teilnahme. \nStart: 17:30 Uhr auf dem Schafmarktplatz (Am Eichholz) in Buxtehude \nFür das leibliche Wohl ist im Anschluss gesorgt.
URL:https://foerdervereinzug2.de/event/laternenumzug/
LOCATION:Schaftmarktplatz\, Am Eichholz\, Buxtehude\, 21614\, Deutschland
END:VEVENT
BEGIN:VEVENT
DTSTART;TZID=UTC:20221127T110000
DTEND;TZID=UTC:20221127T180000
DTSTAMP:20260424T032421
CREATED:20221104T111319Z
LAST-MODIFIED:20221104T111319Z
UID:37-1669546800-1669572000@foerdervereinzug2.de
SUMMARY:Vorweihnachtlicher Nachmittag
DESCRIPTION:Der Bürgerverein Altkloster veranstaltet wieder den Vorweihnachtlichen Nachmittag. \nWir werden durch den Zug II entsprechend vertreten sein und den Bürgerverein unterstützen. \n  \nÜber zahlreiche Besucher und Interessenten freuen wir uns sehr. Näheres ist zu finden auf der Seite des Bürgervereins Altkloster unter: \nhttp://www.buergerverein-altkloster.de/veranstaltungen/2350618/2022/11/27/herzliche-einladung-zum-vorweihnachtlichen-adventssonntag-am-27.11.2022-auf-dem-schafmarktplatz-altkloster.html \n 
URL:https://foerdervereinzug2.de/event/vorweihnachtlicher-nachmittag/
LOCATION:Schaftmarktplatz\, Am Eichholz\, Buxtehude\, 21614\, Deutschland
ORGANIZER;CN="B%C3%BCrgerverein Altkloster":MAILTO:nina.freudenthal@yahoo.de
END:VEVENT
END:VCALENDAR